BEGIN:VCALENDAR
VERSION:2.0
PRODID:-//Power Nation - ECPv6.15.17.1//NONSGML v1.0//EN
CALSCALE:GREGORIAN
METHOD:PUBLISH
X-WR-CALNAME:Power Nation
X-ORIGINAL-URL:https://powernationcheer.happykite.co.uk
X-WR-CALDESC:Events for Power Nation
REFRESH-INTERVAL;VALUE=DURATION:PT1H
X-Robots-Tag:noindex
X-PUBLISHED-TTL:PT1H
BEGIN:VTIMEZONE
TZID:Europe/London
BEGIN:DAYLIGHT
TZOFFSETFROM:+0000
TZOFFSETTO:+0100
TZNAME:BST
DTSTART:20270328T010000
END:DAYLIGHT
BEGIN:STANDARD
TZOFFSETFROM:+0100
TZOFFSETTO:+0000
TZNAME:GMT
DTSTART:20271031T010000
END:STANDARD
BEGIN:DAYLIGHT
TZOFFSETFROM:+0000
TZOFFSETTO:+0100
TZNAME:BST
DTSTART:20280326T010000
END:DAYLIGHT
BEGIN:STANDARD
TZOFFSETFROM:+0100
TZOFFSETTO:+0000
TZNAME:GMT
DTSTART:20281029T010000
END:STANDARD
BEGIN:DAYLIGHT
TZOFFSETFROM:+0000
TZOFFSETTO:+0100
TZNAME:BST
DTSTART:20290325T010000
END:DAYLIGHT
BEGIN:STANDARD
TZOFFSETFROM:+0100
TZOFFSETTO:+0000
TZNAME:GMT
DTSTART:20291028T010000
END:STANDARD
END:VTIMEZONE
BEGIN:VEVENT
DTSTART;VALUE=DATE:20280212
DTEND;VALUE=DATE:20280213
DTSTAMP:20260421T153527
CREATED:20210412T130537Z
LAST-MODIFIED:20210412T130537Z
UID:41205-1833926400-1834012799@powernationcheer.happykite.co.uk
SUMMARY:Hire us!
DESCRIPTION:
URL:https://powernationcheer.happykite.co.uk/event/hire-us/2028-02-12/
CATEGORIES:Hire
END:VEVENT
BEGIN:VEVENT
DTSTART;VALUE=DATE:20280213
DTEND;VALUE=DATE:20280214
DTSTAMP:20260421T153527
CREATED:20210412T133910Z
LAST-MODIFIED:20210412T133910Z
UID:41206-1834012800-1834099199@powernationcheer.happykite.co.uk
SUMMARY:Hire us!
DESCRIPTION:
URL:https://powernationcheer.happykite.co.uk/event/hire-us-2/2028-02-13/
CATEGORIES:Hire
END:VEVENT
END:VCALENDAR